Package: BiocSet Version: 1.20.0 Command: /home/biocbuild/bbs-3.20-bioc/R/bin/R CMD INSTALL BiocSet StartedAt: 2025-01-30 15:17:43 -0500 (Thu, 30 Jan 2025) EndedAt: 2025-01-30 15:17:58 -0500 (Thu, 30 Jan 2025) EllapsedTime: 14.5 seconds RetCode: 0 Status: OK