Package: BiocSet Version: 1.20.0 Command: chmod a+r BiocSet -R && F:\biocbuild\bbs-3.20-bioc\R\bin\R.exe CMD build --keep-empty-dirs --no-resave-data BiocSet StartedAt: 2025-01-30 17:33:58 -0500 (Thu, 30 Jan 2025) EndedAt: 2025-01-30 17:38:37 -0500 (Thu, 30 Jan 2025) EllapsedTime: 278.6 seconds RetCode: 0 Status: OK PackageFile: BiocSet_1.20.0.tar.gz PackageFileSize: 359.5 KiB