Package: BiocSet Version: 1.20.0 Command: /home/biocbuild/R/R/bin/R CMD build --keep-empty-dirs --no-resave-data BiocSet StartedAt: 2025-01-30 22:01:07 -0000 (Thu, 30 Jan 2025) EndedAt: 2025-01-30 22:08:36 -0000 (Thu, 30 Jan 2025) EllapsedTime: 449.1 seconds RetCode: 0 Status: OK PackageFile: BiocSet_1.20.0.tar.gz PackageFileSize: 427.1 KiB