Package: BiocSet Version: 1.20.0 Command: /home/biocbuild/R/R/bin/R CMD check --install=check:BiocSet.install-out.txt --library=/home/biocbuild/R/R/site-library --no-vignettes --timings BiocSet_1.20.0.tar.gz StartedAt: 2025-01-31 04:12:04 -0000 (Fri, 31 Jan 2025) EndedAt: 2025-01-31 04:25:48 -0000 (Fri, 31 Jan 2025) EllapsedTime: 823.7 seconds RetCode: 1 Status: ERROR CheckDir: BiocSet.Rcheck Warnings: NA