Package: BiocSingular Version: 1.22.0 Command: /Library/Frameworks/R.framework/Resources/bin/R CMD build --keep-empty-dirs --no-resave-data BiocSingular StartedAt: 2025-02-03 17:24:01 -0500 (Mon, 03 Feb 2025) EndedAt: 2025-02-03 17:25:33 -0500 (Mon, 03 Feb 2025) EllapsedTime: 91.9 seconds RetCode: 0 Status: OK PackageFile: BiocSingular_1.22.0.tar.gz PackageFileSize: 602.2 KiB