Package: BiocSingular Version: 1.22.0 Command: /Library/Frameworks/R.framework/Resources/bin/R CMD check --install=check:BiocSingular.install-out.txt --library=/Library/Frameworks/R.framework/Resources/library --no-vignettes --timings BiocSingular_1.22.0.tar.gz StartedAt: 2025-02-04 00:19:12 -0500 (Tue, 04 Feb 2025) EndedAt: 2025-02-04 00:25:04 -0500 (Tue, 04 Feb 2025) EllapsedTime: 351.9 seconds RetCode: 0 Status: OK CheckDir: BiocSingular.Rcheck Warnings: 0