Package: BiocSingular Version: 1.22.0 Command: /Library/Frameworks/R.framework/Resources/bin/R CMD INSTALL BiocSingular StartedAt: 2025-02-03 16:33:35 -0500 (Mon, 03 Feb 2025) EndedAt: 2025-02-03 16:34:35 -0500 (Mon, 03 Feb 2025) EllapsedTime: 59.9 seconds RetCode: 0 Status: OK