Package: BiocSingular Version: 1.22.0 Command: /home/biocbuild/bbs-3.20-bioc/R/bin/R CMD check --install=check:BiocSingular.install-out.txt --library=/home/biocbuild/bbs-3.20-bioc/R/site-library --timings BiocSingular_1.22.0.tar.gz StartedAt: 2025-02-03 20:26:28 -0500 (Mon, 03 Feb 2025) EndedAt: 2025-02-03 20:29:04 -0500 (Mon, 03 Feb 2025) EllapsedTime: 156.2 seconds RetCode: 0 Status: OK CheckDir: BiocSingular.Rcheck Warnings: 0