Package: BiocSingular Version: 1.22.0 Command: /home/biocbuild/bbs-3.20-bioc/R/bin/R CMD INSTALL BiocSingular StartedAt: 2025-02-03 15:59:42 -0500 (Mon, 03 Feb 2025) EndedAt: 2025-02-03 16:00:14 -0500 (Mon, 03 Feb 2025) EllapsedTime: 31.7 seconds RetCode: 0 Status: OK