Package: BiocSingular Version: 1.22.0 Command: /home/biocbuild/R/R/bin/R CMD build --keep-empty-dirs --no-resave-data BiocSingular StartedAt: 2025-02-03 22:03:23 -0000 (Mon, 03 Feb 2025) EndedAt: 2025-02-03 22:04:12 -0000 (Mon, 03 Feb 2025) EllapsedTime: 49.0 seconds RetCode: 0 Status: OK PackageFile: BiocSingular_1.22.0.tar.gz PackageFileSize: 733.4 KiB