Package: BiocSklearn Version: 1.28.0 Command: /Library/Frameworks/R.framework/Resources/bin/R CMD build --keep-empty-dirs --no-resave-data BiocSklearn StartedAt: 2025-02-03 17:24:27 -0500 (Mon, 03 Feb 2025) EndedAt: 2025-02-03 17:25:59 -0500 (Mon, 03 Feb 2025) EllapsedTime: 91.8 seconds RetCode: 0 Status: OK PackageFile: BiocSklearn_1.28.0.tar.gz PackageFileSize: 32.52 MiB