Package: BiocSklearn Version: 1.28.0 Command: /Library/Frameworks/R.framework/Resources/bin/R CMD check --install=check:BiocSklearn.install-out.txt --library=/Library/Frameworks/R.framework/Resources/library --no-vignettes --timings BiocSklearn_1.28.0.tar.gz StartedAt: 2025-02-04 00:19:30 -0500 (Tue, 04 Feb 2025) EndedAt: 2025-02-04 00:26:15 -0500 (Tue, 04 Feb 2025) EllapsedTime: 405.1 seconds RetCode: 0 Status: OK CheckDir: BiocSklearn.Rcheck Warnings: 0