Package: BiocSklearn Version: 1.28.0 Command: /Library/Frameworks/R.framework/Resources/bin/R CMD INSTALL BiocSklearn StartedAt: 2025-02-03 15:24:57 -0500 (Mon, 03 Feb 2025) EndedAt: 2025-02-03 15:25:46 -0500 (Mon, 03 Feb 2025) EllapsedTime: 49.2 seconds RetCode: 0 Status: OK