Package: BiocSklearn Version: 1.28.0 Command: /home/biocbuild/bbs-3.20-bioc/R/bin/R CMD INSTALL BiocSklearn StartedAt: 2025-02-03 15:21:01 -0500 (Mon, 03 Feb 2025) EndedAt: 2025-02-03 15:21:22 -0500 (Mon, 03 Feb 2025) EllapsedTime: 21.0 seconds RetCode: 0 Status: OK