Package: BiocSklearn Version: 1.28.0 Command: F:\biocbuild\bbs-3.20-bioc\R\bin\R.exe CMD INSTALL BiocSklearn StartedAt: 2025-02-03 16:21:34 -0500 (Mon, 03 Feb 2025) EndedAt: 2025-02-03 16:22:18 -0500 (Mon, 03 Feb 2025) EllapsedTime: 44.3 seconds RetCode: 0 Status: OK