Package: BiocSklearn Version: 1.28.0 Command: /home/biocbuild/R/R/bin/R CMD INSTALL BiocSklearn StartedAt: 2025-02-03 20:31:29 -0000 (Mon, 03 Feb 2025) EndedAt: 2025-02-03 20:31:59 -0000 (Mon, 03 Feb 2025) EllapsedTime: 29.6 seconds RetCode: 0 Status: OK