Package: BiocVersion Version: 3.20.0 Command: /Library/Frameworks/R.framework/Resources/bin/R CMD build --keep-empty-dirs --no-resave-data BiocVersion StartedAt: 2025-02-03 17:24:31 -0500 (Mon, 03 Feb 2025) EndedAt: 2025-02-03 17:24:33 -0500 (Mon, 03 Feb 2025) EllapsedTime: 2.1 seconds RetCode: 0 Status: OK PackageFile: BiocVersion_3.20.0.tar.gz PackageFileSize: 996 bytes