Package: BiocVersion Version: 3.20.0 Command: /Library/Frameworks/R.framework/Resources/bin/R CMD INSTALL BiocVersion StartedAt: 2025-02-03 15:13:18 -0500 (Mon, 03 Feb 2025) EndedAt: 2025-02-03 15:13:35 -0500 (Mon, 03 Feb 2025) EllapsedTime: 17.7 seconds RetCode: 0 Status: OK