Package: BiocVersion Version: 3.20.0 Command: /home/biocbuild/bbs-3.20-bioc/R/bin/R CMD INSTALL BiocVersion StartedAt: 2025-02-03 15:14:01 -0500 (Mon, 03 Feb 2025) EndedAt: 2025-02-03 15:14:15 -0500 (Mon, 03 Feb 2025) EllapsedTime: 13.4 seconds RetCode: 0 Status: OK