Package: BiocVersion Version: 3.20.0 Command: F:\biocbuild\bbs-3.20-bioc\R\bin\R.exe CMD check --no-multiarch --install=check:BiocVersion.install-out.txt --library=F:\biocbuild\bbs-3.20-bioc\R\library --no-vignettes --timings BiocVersion_3.20.0.tar.gz StartedAt: 2025-02-03 23:34:06 -0500 (Mon, 03 Feb 2025) EndedAt: 2025-02-03 23:34:34 -0500 (Mon, 03 Feb 2025) EllapsedTime: 28.3 seconds RetCode: 0 Status: OK CheckDir: BiocVersion.Rcheck Warnings: 0