Package: BiocWorkflowTools Version: 1.32.0 Command: /Library/Frameworks/R.framework/Resources/bin/R CMD INSTALL BiocWorkflowTools StartedAt: 2025-02-03 16:42:18 -0500 (Mon, 03 Feb 2025) EndedAt: 2025-02-03 16:42:23 -0500 (Mon, 03 Feb 2025) EllapsedTime: 4.6 seconds RetCode: 0 Status: OK