Package: BiocWorkflowTools Version: 1.32.0 Command: /home/biocbuild/bbs-3.20-bioc/R/bin/R CMD check --install=check:BiocWorkflowTools.install-out.txt --library=/home/biocbuild/bbs-3.20-bioc/R/site-library --timings BiocWorkflowTools_1.32.0.tar.gz StartedAt: 2025-02-03 20:26:46 -0500 (Mon, 03 Feb 2025) EndedAt: 2025-02-03 20:27:11 -0500 (Mon, 03 Feb 2025) EllapsedTime: 25.0 seconds RetCode: 0 Status: OK CheckDir: BiocWorkflowTools.Rcheck Warnings: 0