Package: Biostrings Version: 2.74.1 Command: /Library/Frameworks/R.framework/Resources/bin/R CMD check --install=check:Biostrings.install-out.txt --library=/Library/Frameworks/R.framework/Resources/library --no-vignettes --timings Biostrings_2.74.1.tar.gz StartedAt: 2025-02-11 00:23:00 -0500 (Tue, 11 Feb 2025) EndedAt: 2025-02-11 00:39:16 -0500 (Tue, 11 Feb 2025) EllapsedTime: 975.8 seconds RetCode: 0 Status: WARNINGS CheckDir: Biostrings.Rcheck Warnings: 1