Package: Biostrings Version: 2.74.1 Command: /home/biocbuild/bbs-3.20-bioc/R/bin/R CMD INSTALL Biostrings StartedAt: 2025-02-03 15:18:55 -0500 (Mon, 03 Feb 2025) EndedAt: 2025-02-03 15:19:23 -0500 (Mon, 03 Feb 2025) EllapsedTime: 28.0 seconds RetCode: 0 Status: OK