Package: Biostrings Version: 2.74.1 Command: F:\biocbuild\bbs-3.20-bioc\R\bin\R.exe CMD INSTALL Biostrings StartedAt: 2025-02-03 15:46:17 -0500 (Mon, 03 Feb 2025) EndedAt: 2025-02-03 15:50:21 -0500 (Mon, 03 Feb 2025) EllapsedTime: 243.6 seconds RetCode: 0 Status: OK