Package: Biostrings Version: 2.74.1 Command: /home/biocbuild/R/R/bin/R CMD INSTALL Biostrings StartedAt: 2025-02-03 20:28:52 -0000 (Mon, 03 Feb 2025) EndedAt: 2025-02-03 20:29:32 -0000 (Mon, 03 Feb 2025) EllapsedTime: 40.6 seconds RetCode: 0 Status: OK