Package: BloodGen3Module Version: 1.14.0 Command: /Library/Frameworks/R.framework/Resources/bin/R CMD INSTALL BloodGen3Module StartedAt: 2025-02-03 17:52:37 -0500 (Mon, 03 Feb 2025) EndedAt: 2025-02-03 17:53:13 -0500 (Mon, 03 Feb 2025) EllapsedTime: 36.3 seconds RetCode: 0 Status: OK