Package: BloodGen3Module Version: 1.14.0 Command: /Library/Frameworks/R.framework/Resources/bin/R CMD check --install=check:BloodGen3Module.install-out.txt --library=/Library/Frameworks/R.framework/Resources/library --no-vignettes --timings BloodGen3Module_1.14.0.tar.gz StartedAt: 2025-02-04 00:31:23 -0500 (Tue, 04 Feb 2025) EndedAt: 2025-02-04 00:41:24 -0500 (Tue, 04 Feb 2025) EllapsedTime: 600.9 seconds RetCode: 0 Status: WARNINGS CheckDir: BloodGen3Module.Rcheck Warnings: 1