Package: BloodGen3Module Version: 1.14.0 Command: /home/biocbuild/bbs-3.20-bioc/R/bin/R CMD build --keep-empty-dirs --no-resave-data --md5 BloodGen3Module StartedAt: 2025-02-03 16:37:31 -0500 (Mon, 03 Feb 2025) EndedAt: 2025-02-03 16:38:37 -0500 (Mon, 03 Feb 2025) EllapsedTime: 66.1 seconds RetCode: 0 Status: OK PackageFile: BloodGen3Module_1.14.0.tar.gz PackageFileSize: 179.6 KiB