Package: BloodGen3Module Version: 1.14.0 Command: /home/biocbuild/bbs-3.20-bioc/R/bin/R CMD check --install=check:BloodGen3Module.install-out.txt --library=/home/biocbuild/bbs-3.20-bioc/R/site-library --timings BloodGen3Module_1.14.0.tar.gz StartedAt: 2025-02-03 20:32:14 -0500 (Mon, 03 Feb 2025) EndedAt: 2025-02-03 20:37:16 -0500 (Mon, 03 Feb 2025) EllapsedTime: 301.9 seconds RetCode: 0 Status: WARNINGS CheckDir: BloodGen3Module.Rcheck Warnings: 1