Package: BloodGen3Module Version: 1.14.0 Command: /home/biocbuild/bbs-3.20-bioc/R/bin/R CMD INSTALL BloodGen3Module StartedAt: 2025-02-03 16:03:03 -0500 (Mon, 03 Feb 2025) EndedAt: 2025-02-03 16:03:37 -0500 (Mon, 03 Feb 2025) EllapsedTime: 33.9 seconds RetCode: 0 Status: OK