Package: BloodGen3Module Version: 1.14.0 Command: chmod a+r BloodGen3Module -R && F:\biocbuild\bbs-3.20-bioc\R\bin\R.exe CMD build --keep-empty-dirs --no-resave-data BloodGen3Module StartedAt: 2025-02-03 17:51:13 -0500 (Mon, 03 Feb 2025) EndedAt: 2025-02-03 17:52:47 -0500 (Mon, 03 Feb 2025) EllapsedTime: 94.8 seconds RetCode: 0 Status: OK PackageFile: BloodGen3Module_1.14.0.tar.gz PackageFileSize: 179 KiB