Package: BloodGen3Module Version: 1.14.0 Command: /home/biocbuild/R/R/bin/R CMD build --keep-empty-dirs --no-resave-data BloodGen3Module StartedAt: 2025-02-03 22:13:07 -0000 (Mon, 03 Feb 2025) EndedAt: 2025-02-03 22:26:18 -0000 (Mon, 03 Feb 2025) EllapsedTime: 791.2 seconds RetCode: 0 Status: OK PackageFile: BloodGen3Module_1.14.0.tar.gz PackageFileSize: 179.3 KiB