Package: BloodGen3Module Version: 1.14.0 Command: /home/biocbuild/R/R/bin/R CMD check --install=check:BloodGen3Module.install-out.txt --library=/home/biocbuild/R/R/site-library --no-vignettes --timings BloodGen3Module_1.14.0.tar.gz StartedAt: 2025-02-04 05:09:10 -0000 (Tue, 04 Feb 2025) EndedAt: 2025-02-04 05:15:16 -0000 (Tue, 04 Feb 2025) EllapsedTime: 366.3 seconds RetCode: 0 Status: WARNINGS CheckDir: BloodGen3Module.Rcheck Warnings: 1