Package: BloodGen3Module Version: 1.14.0 Command: /home/biocbuild/R/R/bin/R CMD INSTALL BloodGen3Module StartedAt: 2025-02-03 21:16:39 -0000 (Mon, 03 Feb 2025) EndedAt: 2025-02-03 21:17:18 -0000 (Mon, 03 Feb 2025) EllapsedTime: 38.7 seconds RetCode: 0 Status: OK