##############################################################################
##############################################################################
###
### Running command:
###
###   /home/biocbuild/R/R/bin/R CMD INSTALL BridgeDbR
###
##############################################################################
##############################################################################


* installing to library ‘/home/biocbuild/R/R-4.4.1/site-library’
* installing *source* package ‘BridgeDbR’ ...
** using staged installation
** R
** inst
** byte-compile and prepare package for lazy loading
Error: package or namespace load failed for ‘rJava’:
 .onLoad failed in loadNamespace() for 'rJava', details:
  call: dyn.load(file, DLLpath = DLLpath, ...)
  error: unable to load shared object '/home/biocbuild/R/R-4.4.1/site-library/rJava/libs/rJava.so':
  libjvm.so: cannot open shared object file: No such file or directory
Execution halted
ERROR: lazy loading failed for package ‘BridgeDbR’
* removing ‘/home/biocbuild/R/R-4.4.1/site-library/BridgeDbR’
* restoring previous ‘/home/biocbuild/R/R-4.4.1/site-library/BridgeDbR’