Package: BridgeDbR Version: 2.16.0 Command: /Library/Frameworks/R.framework/Resources/bin/R CMD check --install=check:BridgeDbR.install-out.txt --library=/Library/Frameworks/R.framework/Resources/library --no-vignettes --timings BridgeDbR_2.16.0.tar.gz StartedAt: 2025-02-04 00:38:35 -0500 (Tue, 04 Feb 2025) EndedAt: 2025-02-04 00:39:45 -0500 (Tue, 04 Feb 2025) EllapsedTime: 69.5 seconds RetCode: 0 Status: OK CheckDir: BridgeDbR.Rcheck Warnings: 0