Package: BridgeDbR Version: 2.16.0 Command: /home/biocbuild/bbs-3.20-bioc/R/bin/R CMD build --keep-empty-dirs --no-resave-data --md5 BridgeDbR StartedAt: 2025-02-03 16:39:25 -0500 (Mon, 03 Feb 2025) EndedAt: 2025-02-03 16:39:31 -0500 (Mon, 03 Feb 2025) EllapsedTime: 6.0 seconds RetCode: 0 Status: OK PackageFile: BridgeDbR_2.16.0.tar.gz PackageFileSize: 4.617 MiB