Package: BridgeDbR Version: 2.15.0 Command: rm -rf BridgeDbR.buildbin-libdir && mkdir BridgeDbR.buildbin-libdir && F:\biocbuild\bbs-3.20-bioc\R\bin\R.exe CMD INSTALL --build --library=BridgeDbR.buildbin-libdir BridgeDbR_2.15.0.tar.gz StartedAt: 2024-06-10 13:02:34 -0400 (Mon, 10 Jun 2024) EndedAt: 2024-06-10 13:03:18 -0400 (Mon, 10 Jun 2024) EllapsedTime: 44.0 seconds RetCode: 0 Status: OK PackageFile: BridgeDbR_2.15.0.zip PackageFileSize: 4.584 MiB