Package: BridgeDbR Version: 2.16.0 Command: rm -rf BridgeDbR.buildbin-libdir && mkdir BridgeDbR.buildbin-libdir && F:\biocbuild\bbs-3.20-bioc\R\bin\R.exe CMD INSTALL --build --library=BridgeDbR.buildbin-libdir BridgeDbR_2.16.0.tar.gz StartedAt: 2025-02-04 08:06:14 -0500 (Tue, 04 Feb 2025) EndedAt: 2025-02-04 08:06:32 -0500 (Tue, 04 Feb 2025) EllapsedTime: 17.5 seconds RetCode: 0 Status: OK PackageFile: BridgeDbR_2.16.0.zip PackageFileSize: 4.584 MiB