Package: BridgeDbR Version: 2.16.0 Command: F:\biocbuild\bbs-3.20-bioc\R\bin\R.exe CMD check --no-multiarch --install=check:BridgeDbR.install-out.txt --library=F:\biocbuild\bbs-3.20-bioc\R\library --no-vignettes --timings BridgeDbR_2.16.0.tar.gz StartedAt: 2025-02-03 23:51:09 -0500 (Mon, 03 Feb 2025) EndedAt: 2025-02-03 23:52:28 -0500 (Mon, 03 Feb 2025) EllapsedTime: 79.1 seconds RetCode: 0 Status: OK CheckDir: BridgeDbR.Rcheck Warnings: 0