Package: BrowserViz Version: 2.28.0 Command: /home/biocbuild/bbs-3.20-bioc/R/bin/R CMD build --keep-empty-dirs --no-resave-data --md5 BrowserViz StartedAt: 2025-02-03 16:39:49 -0500 (Mon, 03 Feb 2025) EndedAt: 2025-02-03 16:39:55 -0500 (Mon, 03 Feb 2025) EllapsedTime: 6.0 seconds RetCode: 0 Status: OK PackageFile: BrowserViz_2.28.0.tar.gz PackageFileSize: 242.5 KiB