Package: BrowserViz Version: 2.28.0 Command: /home/biocbuild/bbs-3.20-bioc/R/bin/R CMD check --install=check:BrowserViz.install-out.txt --library=/home/biocbuild/bbs-3.20-bioc/R/site-library --timings BrowserViz_2.28.0.tar.gz StartedAt: 2025-02-03 20:36:54 -0500 (Mon, 03 Feb 2025) EndedAt: 2025-02-03 20:37:17 -0500 (Mon, 03 Feb 2025) EllapsedTime: 23.0 seconds RetCode: 0 Status: OK CheckDir: BrowserViz.Rcheck Warnings: 0