Package: BrowserViz Version: 2.28.0 Command: /home/biocbuild/bbs-3.20-bioc/R/bin/R CMD INSTALL BrowserViz StartedAt: 2025-02-03 15:17:46 -0500 (Mon, 03 Feb 2025) EndedAt: 2025-02-03 15:18:06 -0500 (Mon, 03 Feb 2025) EllapsedTime: 19.6 seconds RetCode: 0 Status: OK