Package: BufferedMatrix Version: 1.70.0 Command: /Library/Frameworks/R.framework/Resources/bin/R CMD INSTALL BufferedMatrix StartedAt: 2025-02-03 15:09:17 -0500 (Mon, 03 Feb 2025) EndedAt: 2025-02-03 15:09:21 -0500 (Mon, 03 Feb 2025) EllapsedTime: 4.9 seconds RetCode: 0 Status: OK