Package: BufferedMatrix
Version: 1.70.0
Command: /Library/Frameworks/R.framework/Resources/bin/R CMD build --keep-empty-dirs --no-resave-data BufferedMatrix
StartedAt: 2024-11-08 16:18:47 -0500 (Fri, 08 Nov 2024)
EndedAt: 2024-11-08 16:18:52 -0500 (Fri, 08 Nov 2024)
EllapsedTime: 5.1 seconds
RetCode: 0
Status: OK
PackageFile: BufferedMatrix_1.70.0.tar.gz
PackageFileSize: 629.7 <A href="http://en.wikipedia.org/wiki/KiB" target="_blank">KiB</A>