Package: BufferedMatrix Version: 1.70.0 Command: /Library/Frameworks/R.framework/Resources/bin/R CMD build --keep-empty-dirs --no-resave-data BufferedMatrix StartedAt: 2025-02-03 17:34:21 -0500 (Mon, 03 Feb 2025) EndedAt: 2025-02-03 17:34:48 -0500 (Mon, 03 Feb 2025) EllapsedTime: 26.5 seconds RetCode: 0 Status: OK PackageFile: BufferedMatrix_1.70.0.tar.gz PackageFileSize: 629.8 KiB