Package: BufferedMatrix Version: 1.70.0 Command: chmod a+r BufferedMatrix -R && F:\biocbuild\bbs-3.20-bioc\R\bin\R.exe CMD build --keep-empty-dirs --no-resave-data BufferedMatrix StartedAt: 2025-02-03 17:53:54 -0500 (Mon, 03 Feb 2025) EndedAt: 2025-02-03 17:54:42 -0500 (Mon, 03 Feb 2025) EllapsedTime: 48.4 seconds RetCode: 0 Status: OK PackageFile: BufferedMatrix_1.70.0.tar.gz PackageFileSize: 490.5 KiB