Package: BufferedMatrix Version: 1.70.0 Command: F:\biocbuild\bbs-3.20-bioc\R\bin\R.exe CMD INSTALL BufferedMatrix StartedAt: 2025-02-03 15:31:26 -0500 (Mon, 03 Feb 2025) EndedAt: 2025-02-03 15:32:59 -0500 (Mon, 03 Feb 2025) EllapsedTime: 92.6 seconds RetCode: 0 Status: OK