Package: BufferedMatrix Version: 1.70.0 Command: /home/biocbuild/R/R/bin/R CMD INSTALL BufferedMatrix StartedAt: 2025-02-03 20:21:23 -0000 (Mon, 03 Feb 2025) EndedAt: 2025-02-03 20:21:35 -0000 (Mon, 03 Feb 2025) EllapsedTime: 12.0 seconds RetCode: 0 Status: OK